BEGIN:VCALENDAR
VERSION:2.0
PRODID:-//InvisionCommunity Events 4.7.15//EN
METHOD:PUBLISH
CALSCALE:GREGORIAN
REFRESH-INTERVAL:PT15M
X-PUBLISHED-TTL:PT15M
X-WR-CALNAME:Hellenic vACC Events
NAME:Hellenic vACC Events
BEGIN:VTIMEZONE
TZID:Europe/London
TZURL:http://tzurl.org/zoneinfo/Europe/London
X-LIC-LOCATION:Europe/London
BEGIN:DAYLIGHT
TZOFFSETFROM:+0000
TZOFFSETTO:+0100
TZNAME:BST
DTSTART:20240331T020000Z
RRULE:FREQ=YEARLY;BYMONTH=3;BYDAY=-1SU
END:DAYLIGHT
BEGIN:STANDARD
TZOFFSETFROM:+0100
TZOFFSETTO:+0000
TZNAME:GMT
DTSTART:20241027T020000Z
RRULE:FREQ=YEARLY;BYMONTH=10;BYDAY=-1SU
END:STANDARD
END:VTIMEZONE
BEGIN:VEVENT
SUMMARY:S2 CPT @ LGAV
DTSTAMP:20241019T095116Z
SEQUENCE:0
UID:133-1-23d90cbfd5f2bc104061f0755e75b7b6@hvacc.org
ORGANIZER;CN="Spyros Stavrakis":noreply@hvacc.org
DESCRIPTION:\n	Dear pilots\,\n\n\n\n	This Sunday\, October 20th\, 2024\,
	 we invite you to a Tower CPT that will take place at Athens International
	 Airport (LGAV)\, starting at 17:00z. Set up your aircraft\, brief yoursel
	f about the airport at: https://briefing.hvacc.org/airports/LGAV and fly i
	nto &amp\; out of Athens to help our Tower trainee\, George\, earn his S2 
	rating! Hope to see you all there!\n\n\n\n	Αγαπητοί πιλ
	ότοι\,\n\n\n\n	Αυτή τη Κυριακ
	ή\, 20 Οκτωβρίου\, σας
	 προσκαλούμε σε έ
	να CPT της θέση
	ς του Πύργο
	υ το οποίο θα 
	διεξαχθεί στο αε
	ροδρόμιο Ελευθέριος Βενι
	ζέλος των Αθηνών (LGAV)
	\, αρχίζοντας στι
	ς 17:00z. Προετοιμαστείτε
	 κατάλληλα διαβάζοντας τους χάρτες στο: h
	ttps://briefing.hvacc.org/airports/LGAV και πε
	τάξτε από και 
	προς το αεροδρ
	όμιο των Αθηνών\, βοηθώ
	ντας έτσι τον Γιώργο ν
	α αποκτήσει το S2 rating του! Σας περιμ
	ένουμε όλους! \n\n\n
DTSTART:20241020T170000Z
DTEND:20241020T190000Z
END:VEVENT
END:VCALENDAR
