BEGIN:VCALENDAR
VERSION:2.0
PRODID:-//InvisionCommunity Events 4.7.15//EN
METHOD:PUBLISH
CALSCALE:GREGORIAN
REFRESH-INTERVAL:PT15M
X-PUBLISHED-TTL:PT15M
X-WR-CALNAME:Hellenic vACC Events
NAME:Hellenic vACC Events
BEGIN:VTIMEZONE
TZID:Europe/London
TZURL:http://tzurl.org/zoneinfo/Europe/London
X-LIC-LOCATION:Europe/London
BEGIN:DAYLIGHT
TZOFFSETFROM:+0000
TZOFFSETTO:+0100
TZNAME:BST
DTSTART:20240331T020000Z
RRULE:FREQ=YEARLY;BYMONTH=3;BYDAY=-1SU
END:DAYLIGHT
BEGIN:STANDARD
TZOFFSETFROM:+0100
TZOFFSETTO:+0000
TZNAME:GMT
DTSTART:20241027T020000Z
RRULE:FREQ=YEARLY;BYMONTH=10;BYDAY=-1SU
END:STANDARD
END:VTIMEZONE
BEGIN:VEVENT
SUMMARY:Acropolis Nights
DTSTAMP:20241120T133059Z
SEQUENCE:0
UID:134-1-23d90cbfd5f2bc104061f0755e75b7b6@hvacc.org
ORGANIZER;CN="Spyros Stavrakis":noreply@hvacc.org
DESCRIPTION:\n	🌟 Acropolis Nights Season 2! 🌟 Welcome to Acropolis
	 Nights\, the weekly event hosted by Hellenic vACC every Friday from 17:00
	 – 20:00z.\n\n\n\n	Season 2 promises to be even more thrilling\, with en
	hanced interactions and a community of passionate aviation enthusiasts eag
	er to take to the skies. Experience the magic of flying over Greece's icon
	ic landmarks\, including the breathtaking Acropolis\, and connect with fel
	low pilots in a friendly\, welcoming environment through our discord serve
	r: https://community.vatsim.net/\n\n\n\n	Prepare for an extraordinary fly
	ing experience with ATC provided by our dedicated team of skilled controll
	ers that they will ensure your journey is as smooth and efficient as possi
	ble\, allowing you to focus on the joy of flying as you navigate through t
	he crowds under the Greek night sky. Are you ready for takeoff?\n\n\n\n	Se
	e you in the virtual skies! ✈️\n\n\n\n	Charts and briefing : https://
	briefing.hvacc.org/\n\n\n\n	\n\n
DTSTART:20241101T170000Z
DTEND:20241101T200000Z
RRULE:FREQ=WEEKLY;INTERVAL=1;UNTIL=20250411T000000
END:VEVENT
END:VCALENDAR
